BEGIN:VCALENDAR
VERSION:2.0
PRODID:-//Eventin//Event Calendar//EN
CALSCALE:GREGORIAN
METHOD:PUBLISH
BEGIN:VEVENT
UID:2f9c18675444231eb104a10aed908e5b@sweetpepperamaizeing.com
SUMMARY:Lions Club Kentucky Derby Tasting Event @ Colts Neck
DESCRIPTION:Experience the thrill of the Derby with a touch of Venezuelan e
 legance. Sweet Pepper is honored to join the Lions Club for the Kentucky De
 rby Tasting Event at the beautiful Bucks Mill Recreation Area.\nAs the hors
 es thunder down the track\, enjoy a tasting experience that matches the exc
 itement of the race. Our premium\, 100% Gluten-Free empanadas offer a sophi
 sticated crunch and rich\, traditional fillings that pair perfectly with th
 e celebratory atmosphere of the day. Join us in Colts Neck for an afternoon
  where heritage meets high-stakes fun.\n\n\nThe Experience: Gourmet tasting
  in the heart of Colts Neck.\n\n\nThe Flavor: Artisanal smooth-dough empana
 das\, naturally golden and Gluten-Free.\n\n\nThe Cause: Supporting the nobl
 e work of the Lions Club.\n\n\nDress your best\, bring your passion for fla
 vor\, and let's toast to a majestic Derby Day
LOCATION:Bucks Mill Recreation Area
DTSTAMP:20260424T121313Z
DTSTART:20260502T190000Z
DTEND:20260502T230000Z
END:VEVENT
END:VCALENDAR
