BEGIN:VCALENDAR
VERSION:2.0
PRODID:-//Eventin//Event Calendar//EN
CALSCALE:GREGORIAN
METHOD:PUBLISH
BEGIN:VEVENT
UID:c9958f0cd773de93ed6741c76a78589c@sweetpepperamaizeing.com
SUMMARY:Red Bank Street Fair & Craft Show: A Family Feast
DESCRIPTION:Celebrate spring at the most iconic street fair in NJ! Sweet Pe
 pper is taking over the streets of Red Bank for a day of sun\, shopping\, a
 nd the ultimate comfort food.\nAfter browsing the local artisans and craft 
 stands\, come find our orange food truck to experience the 'aMAIZEing' flav
 or that everyone is talking about. We’ll be serving our 100% Gluten-Free\
 , smooth-dough Venezuelan empanadas—made with love and the perfect golden
  crunch. It’s the perfect handheld meal to enjoy while you walk through t
 he beautiful downtown Red Bank.\n\n\nOn the menu: Traditional Beef\, Chicke
 n\, and Cheese empanadas (all 100% GF).\n\n\nVibe: Family-friendly\, commun
 ity-focused\, and full of local energy.\n\n\nWhere to find us: Look for the
  vibrant orange truck among the street vendors!\n\n\nJoin us for a Sunday f
 illed with flavor and heritage.
LOCATION:Downtown Red Bank (Monmouth St & Broad St)
DTSTAMP:20260424T121559Z
DTSTART:20260426T150000Z
DTEND:20260426T210000Z
END:VEVENT
END:VCALENDAR
