BEGIN:VCALENDAR
VERSION:2.0
PRODID:-//Eventin//Event Calendar//EN
CALSCALE:GREGORIAN
METHOD:PUBLISH
BEGIN:VEVENT
UID:cfbdc94dea5629630c1213a3a0b7633a@sweetpepperamaizeing.com
SUMMARY:The Beer Run: 5K & Craft Beer Festival @ Allaire State Park
DESCRIPTION:Fuel your run with the most authentic flavor in Jersey! Sweet P
 epper is bringing the aMAIZEing Spot to the Allaire Village 5K Beer Run.\nA
 fter conquering the trails\, reward yourself with our signature 100% Gluten
 -Free empanadas. Perfectly crispy\, naturally golden\, and designed to pair
  beautifully with your favorite craft beer. Whether you are running the 5K 
 or just coming for the festival vibes\, stop by our food truck for a taste 
 of Venezuelan tradition that’s as bold as a cold brew.\n\n\nOn the menu: 
 Our famous smooth-dough empanadas (Beef\, Chicken\, Cheese\, and more).\n\n
 \nSpecialty: 100% Gluten-Free options available.\n\n\nVibe: Post-run recove
 ry with a Latin soul.
LOCATION:Allaire State Park
DTSTAMP:20260424T121318Z
DTSTART:20260425T150000Z
DTEND:20260425T200000Z
END:VEVENT
END:VCALENDAR
